BEGIN:VCALENDAR
PRODID:-//AT Content Types//AT Event//EN
VERSION:2.0
METHOD:PUBLISH
BEGIN:VEVENT
DTSTAMP:20260421T235136Z
CREATED:20161205T141706Z
UID:ATEvent-610608d49ed24851bb8247a5169377ca
LAST-MODIFIED:20171219T100221Z
SUMMARY:CONVEGNO DI STUDI. Il distretto calzaturiero delle Marche. Strategie di internazionalizzazione\, merito di credito ed esigenze professionali di un settore in profonda evoluzione
DTSTART:20161213T090000Z
DTEND:20161213T120000Z
CONTACT:Sig.ra Milena GENTILI\, labvicarelli@unimc.it
CLASS:PUBLIC
END:VEVENT
END:VCALENDAR
