BEGIN:VCALENDAR
PRODID:-//AT Content Types//AT Event//EN
VERSION:2.0
METHOD:PUBLISH
BEGIN:VEVENT
DTSTAMP:20260421T235136Z
CREATED:20161130T145903Z
UID:ATEvent-c45cf64edc754783bfbcf439a04deb8c
LAST-MODIFIED:20171219T100222Z
SUMMARY:CONVEGNO. Il futuro oltre il sisma - politiche per lo sviluppo territoriale
DTSTART:20161213T170000Z
DTEND:20161213T190000Z
CLASS:PUBLIC
END:VEVENT
END:VCALENDAR
