BEGIN:VCALENDAR
PRODID:-//AT Content Types//AT Event//EN
VERSION:2.0
METHOD:PUBLISH
BEGIN:VEVENT
DTSTAMP:20260421T235136Z
CREATED:20161110T152027Z
UID:ATEvent-2f441f1d8f894e2d95600212ebe30b76
LAST-MODIFIED:20171219T100221Z
SUMMARY:CONVEGNO DI STUDI. Stabilità finanziaria\, sviluppo economico e ruolo delle banche.  Bail-in e disciplina regolamentare
DTSTART:20161216T080000Z
DTEND:20161216T160000Z
CONTACT:Sig.ra Milena GENTILI\, 0733.258.3239\, labvicarelli@unimc.it
CLASS:PUBLIC
END:VEVENT
END:VCALENDAR
