BEGIN:VCALENDAR
PRODID:-//AT Content Types//AT Event//EN
VERSION:1.0
BEGIN:VEVENT
DTSTART:20141114T080000Z
DTEND:20141114T143000Z
DCREATED:20150709T085544Z
UID:ATEvent-2f00d9ad28284a40aa3e8e5f98fe487f
SEQUENCE:0
LAST-MODIFIED:20171219T100222Z
SUMMARY:Il finanziamento delle PMI alternativo al credito bancario
PRIORITY:3
TRANSP:0
END:VEVENT
END:VCALENDAR
