BEGIN:VCALENDAR
PRODID:-//AT Content Types//AT Event//EN
VERSION:1.0
BEGIN:VEVENT
DTSTART:20140625T070000Z
DTEND:20140625T110000Z
DCREATED:20150709T075136Z
UID:ATEvent-5345f7908b9f47819a827cdafaaef3de
SEQUENCE:0
LAST-MODIFIED:20171219T100223Z
SUMMARY:Incontro annuale con la Banca d'Italia. Nuove sfide per la politica monetaria unica
PRIORITY:3
TRANSP:0
END:VEVENT
END:VCALENDAR
