BEGIN:VCALENDAR
PRODID:-//AT Content Types//AT Event//EN
VERSION:2.0
METHOD:PUBLISH
BEGIN:VEVENT
DTSTAMP:20260421T235007Z
CREATED:20161005T091243Z
UID:ATEvent-d5c2477ee01543f5bead7e40ddb0ff86
LAST-MODIFIED:20171219T100222Z
SUMMARY:L'avventura della finanza
DTSTART:20161020T160000Z
DTEND:20161020T180000Z
CLASS:PUBLIC
END:VEVENT
END:VCALENDAR
