BEGIN:VCALENDAR
PRODID:-//AT Content Types//AT Event//EN
VERSION:2.0
METHOD:PUBLISH
BEGIN:VEVENT
DTSTAMP:20260421T180344Z
CREATED:20181107T094108Z
UID:ATEvent-5aa6026335444aa880c7835e3fbbb8d9
LAST-MODIFIED:20181220T084306Z
SUMMARY:SEMINARIO. E se l'Italia tornasse alla Lira ?
DTSTART:20181213T160000Z
DTEND:20181213T180000Z
CONTACT:ded.ricerca@unimc.it
CLASS:PUBLIC
END:VEVENT
END:VCALENDAR
